BEGIN:VCALENDAR
VERSION:2.0
PRODID:-//wp-events-plugin.com//7.2.3.1//EN
TZID:Europe/Berlin
X-WR-TIMEZONE:Europe/Berlin
BEGIN:VEVENT
UID:887@blomberg24.blomberg-nachrichten.de
DTSTART;TZID=Europe/Berlin:20260418T193000
DTEND;TZID=Europe/Berlin:20260418T220000
DTSTAMP:20251130T100040Z
URL:http://blomberg24.blomberg-nachrichten.de/events/weinkonzert-mit-volkw
 in-mueller-und-nis-jesse-mit-band/
SUMMARY:Weinkonzert mit Volkwin Müller und Nis Jesse mit Band
DESCRIPTION:Im April 2001 eröffnete in der Neuen Torstr. 33 der kleine\, f
 ranzösische Weinhandel „Rendez-vous du vin“. Viel ist seitdem passier
 t. Am 18. April 2026 möchten Andrea und Pierre-Louis Plat einen Rückblic
 k mit den „Best of 25 Jahre Weinhandel in Blomberg“-Momenten geben. Da
 zu werden sie im Kulturhaus „Alte Meierei“ einen außergewöhnlichen A
 bend gestalten. Es ist quasi ein „Hauskonzert außer Haus“… Für den
  musikalischen Rahmen des Abends sorgen Volkwin Müller und Nis Jesse mit 
 Band. Mit beiden Musikern verbinden die beiden viele schöne gemeinsame Er
 innerungen und Erlebnisse. Einige werden auch an dem Abend zur Sprache kom
 men.\n\nMehr zum Programm\, zum Ablauf und zur Weinauswahl für den Abend 
 gibt es in den kommenden Monaten unter www.weinhandel-blomberg.de Karten g
 ibt es direkt bei Weinhandel Plat\, Tel. 05235 / 503720 für 15 Euro im Vo
 rverkauf. Restkarten an der Abendkasse für 18 Euro.
ATTACH;FMTTYPE=image/jpeg:http://blomberg24.blomberg-nachrichten.de/wp-con
 tent/uploads/2025/11/0W1A9731-scaled-1.jpg
CATEGORIES:Konzert
LOCATION:Kulturhaus "Alte Meierei"\, Brinkstraße 22\, Blomberg\, NRW\, 328
 25\, Lippe\, Deutschland
X-APPLE-STRUCTURED-LOCATION;VALUE=URI;X-ADDRESS=Brinkstraße 22\, Blomberg\
 , NRW\, 32825\, Lippe\, Deutschland;X-APPLE-RADIUS=100;X-TITLE=Kulturhaus 
 \"Alte Meierei\":geo:0,0
END:VEVENT
BEGIN:VTIMEZONE
TZID:Europe/Berlin
X-LIC-LOCATION:Europe/Berlin
BEGIN:DAYLIGHT
DTSTART:20260329T030000
TZOFFSETFROM:+0100
TZOFFSETTO:+0200
TZNAME:CEST
END:DAYLIGHT
END:VTIMEZONE
END:VCALENDAR