BEGIN:VCALENDAR
VERSION:2.0
PRODID:-//wp-events-plugin.com//7.2.3.1//EN
TZID:Europe/Berlin
X-WR-TIMEZONE:Europe/Berlin
BEGIN:VEVENT
UID:899@blomberg24.blomberg-nachrichten.de
DTSTART;TZID=Europe/Berlin:20260127T110000
DTEND;TZID=Europe/Berlin:20260127T130000
DTSTAMP:20260115T082815Z
URL:http://blomberg24.blomberg-nachrichten.de/events/gedenktag-fuer-die-op
 fer-des-nationalsozialismus/
SUMMARY:Gedenktag für die Opfer des Nationalsozialismus
DESCRIPTION:Gedenkstunde auf dem jüdischen Friedhof\n&nbsp\;\nBegrüßung 
 durch Bürgermeister Christoph Dolle\nAnsprache durch Pastor Jörg Depperm
 ann\nWorte des Gedenkens:\nSchülerinnen und Schüler des\nHermann-Vöchti
 ng-Gymnasiums\nVeranstalter: Stadt Blomberg\, Kirchengemeinden Blomberg
ATTACH;FMTTYPE=image/jpeg:http://blomberg24.blomberg-nachrichten.de/wp-con
 tent/uploads/2026/01/Plakat-Gedenktag.png
CATEGORIES:Kirche,Sonstige
LOCATION:Jüdischer Friedhof\, Reinickendorfer Straße\, Blomberg\, Deutsch
 land
X-APPLE-STRUCTURED-LOCATION;VALUE=URI;X-ADDRESS=Reinickendorfer Straße\, B
 lomberg\, Deutschland;X-APPLE-RADIUS=100;X-TITLE=Jüdischer Friedhof:geo:0
 ,0
END:VEVENT
BEGIN:VTIMEZONE
TZID:Europe/Berlin
X-LIC-LOCATION:Europe/Berlin
BEGIN:STANDARD
DTSTART:20251026T020000
TZOFFSETFROM:+0200
TZOFFSETTO:+0100
TZNAME:CET
END:STANDARD
END:VTIMEZONE
END:VCALENDAR