BEGIN:VCALENDAR
VERSION:2.0
PRODID:-//wp-events-plugin.com//7.2.3.1//EN
TZID:Europe/Berlin
X-WR-TIMEZONE:Europe/Berlin
BEGIN:VEVENT
UID:888@blomberg24.blomberg-nachrichten.de
DTSTART;TZID=Europe/Berlin:20260124T200000
DTEND;TZID=Europe/Berlin:20260124T220000
DTSTAMP:20251130T095949Z
URL:http://blomberg24.blomberg-nachrichten.de/events/blomberger-magie-aben
 d-mit-cody-stone/
SUMMARY:Blomberger Magie-Abend mit Cody Stone
DESCRIPTION:Cody Stone kommt zurück nach Blomberg! Die Stadt Blomberg und 
 Blomberg Marketing freuen sich\, den smarten Entertainer und Magier nach s
 einen beiden sehr erfolgreichen Shows in 2024 erneut für zwei Auftritte i
 m Kultuhaus „Alte Meierei“ gewonnen zu haben. Cody Stone zauberte bere
 its in über 100 Episoden seiner eigenen TV-Serien (u. a. Magic Attack) f
 ür „The Walt Disney Company“ im Deutschen Fernsehen\, ließ eine ganz
 e Insel im Nirgendwo verschwinden und brachte seine Zuschauer in Las Vegas
 \, Hollywood und New York sowie weltweit auf bereits über 50 Kreuzfahrten
  zum Staunen. Außerdem beeindruckte er mit einem Gastauftritt als erster 
 und bisher einziger Magier in der Kult-Sendung „Wer wird Millionär“ d
 en Moderator Günther Jauch sowie über vier Millionen TV-Zuschauer. In 20
 25 feierte er sein 25-jähriges Bühnenjubiläum.\n\nNutzen Sie die Chance
  und erleben Sie das neue Programm live in Blomberg. Eintrittskarten gibt 
 es im Vorverkauf bei Blomberg Marketing Tel. 05235 / 502 83 42 und online 
 bei der Neuen Westfälischen unter www.nw.de/events\n\nIm Vorverkauf koste
 n die Karten 28 Euro\, Restkarten (soweit vorhanden) gibt es an der Abendk
 asse für 32 Euro. Ermäßigt für Kinder und Jugendliche bis 18 Jahren 19
  Euro im Vorverkauf (23 Euro an der Abendkasse). Mehr zu dem Künstler: ww
 w.codystone.de
ATTACH;FMTTYPE=image/jpeg:http://blomberg24.blomberg-nachrichten.de/wp-con
 tent/uploads/2025/11/Cody-Stone-Zauberer-schwebendes-Tuch-600x600-1.jpeg
CATEGORIES:Sonstige
LOCATION:Kulturhaus "Alte Meierei"\, Brinkstraße 22\, Blomberg\, NRW\, 328
 25\, Lippe\, Deutschland
X-APPLE-STRUCTURED-LOCATION;VALUE=URI;X-ADDRESS=Brinkstraße 22\, Blomberg\
 , NRW\, 32825\, Lippe\, Deutschland;X-APPLE-RADIUS=100;X-TITLE=Kulturhaus 
 \"Alte Meierei\":geo:0,0
END:VEVENT
BEGIN:VTIMEZONE
TZID:Europe/Berlin
X-LIC-LOCATION:Europe/Berlin
BEGIN:STANDARD
DTSTART:20251026T020000
TZOFFSETFROM:+0200
TZOFFSETTO:+0100
TZNAME:CET
END:STANDARD
END:VTIMEZONE
END:VCALENDAR